BEGIN:VCALENDAR
VERSION:2.0
PRODID:-//Sdružení válečných veteránů ČR - ECPv6.15.20//NONSGML v1.0//EN
CALSCALE:GREGORIAN
METHOD:PUBLISH
X-WR-CALNAME:Sdružení válečných veteránů ČR
X-ORIGINAL-URL:https://www.svvcr.cz
X-WR-CALDESC:Akce na Sdružení válečných veteránů ČR
REFRESH-INTERVAL;VALUE=DURATION:PT1H
X-Robots-Tag:noindex
X-PUBLISHED-TTL:PT1H
BEGIN:VTIMEZONE
TZID:Europe/Prague
BEGIN:DAYLIGHT
TZOFFSETFROM:+0100
TZOFFSETTO:+0200
TZNAME:CEST
DTSTART:20180325T010000
END:DAYLIGHT
BEGIN:STANDARD
TZOFFSETFROM:+0200
TZOFFSETTO:+0100
TZNAME:CET
DTSTART:20181028T010000
END:STANDARD
BEGIN:DAYLIGHT
TZOFFSETFROM:+0100
TZOFFSETTO:+0200
TZNAME:CEST
DTSTART:20190331T010000
END:DAYLIGHT
BEGIN:STANDARD
TZOFFSETFROM:+0200
TZOFFSETTO:+0100
TZNAME:CET
DTSTART:20191027T010000
END:STANDARD
BEGIN:DAYLIGHT
TZOFFSETFROM:+0100
TZOFFSETTO:+0200
TZNAME:CEST
DTSTART:20200329T010000
END:DAYLIGHT
BEGIN:STANDARD
TZOFFSETFROM:+0200
TZOFFSETTO:+0100
TZNAME:CET
DTSTART:20201025T010000
END:STANDARD
BEGIN:DAYLIGHT
TZOFFSETFROM:+0100
TZOFFSETTO:+0200
TZNAME:CEST
DTSTART:20210328T010000
END:DAYLIGHT
BEGIN:STANDARD
TZOFFSETFROM:+0200
TZOFFSETTO:+0100
TZNAME:CET
DTSTART:20211031T010000
END:STANDARD
END:VTIMEZONE
BEGIN:VEVENT
DTSTART;TZID=Europe/Prague:20201031T080000
DTEND;TZID=Europe/Prague:20201031T170000
DTSTAMP:20260419T232025
CREATED:20201223T190824Z
LAST-MODIFIED:20201223T190824Z
UID:2955-1604131200-1604163600@www.svvcr.cz
SUMMARY:MERRY CHRISTMAS
DESCRIPTION:SVV ČR připravuje vánoční dárky pro děti vojáků\, kteří padli v zahraničních misích.\nV těchto dnech zahajujeme projekt\, ve kterém oslovíme rodiny a zjistíme přání dětí. Bohužel nemůžeme uspořádat předávání dárků na vánočním setkání v Praze.\nDárky zašleme pod stromek do každé rodiny. Vzpomeneme si na vojáky\, kteří i o vánocích budou sloužit daleko od svých rodin a na ty naše vojáky\, kteří v misích padli.
URL:https://www.svvcr.cz/kalendar/merry-christmas/
END:VEVENT
BEGIN:VEVENT
DTSTART;TZID=Europe/Prague:20201017T100000
DTEND;TZID=Europe/Prague:20201017T170000
DTSTAMP:20260419T232025
CREATED:20200916T135305Z
LAST-MODIFIED:20200916T141611Z
UID:2654-1602928800-1602954000@www.svvcr.cz
SUMMARY:Zasedání Republikového výboru SVV ČR
DESCRIPTION:Program: \na) Konat souběžně se 4. jednáním VV SVV ČR\nb) Projednání podnětů na změny v orgánech SVV ČR (návrhy)\nc) Podněty ke změnám ve Stanovách a OJŘ\, Směrnici o hospodaření a udělování odměn\nd) Příprava Sněmu 2021\ne) Projednání stavu hospodaření v KO a v SVV ČR \nZasedání Výkonného výboru a Republikového výboru v roce 2019 – 2021
URL:https://www.svvcr.cz/kalendar/zasedani-republikoveho-vyboru-svv-cr-4/
LOCATION:DAP Praha\, Vítězné náměstí 684/4\, Praha 6\, Praha\, 16000
CATEGORIES:Zasedání Republikového výboru
END:VEVENT
BEGIN:VEVENT
DTSTART;VALUE=DATE:20201016
DTEND;VALUE=DATE:20201017
DTSTAMP:20260419T232025
CREATED:20200216T211222Z
LAST-MODIFIED:20200916T134830Z
UID:1864-1602806400-1602892799@www.svvcr.cz
SUMMARY:ZRUŠENO - BOHUŽEL :  Setkání pozorovatelů OBSE\, OSN
DESCRIPTION:Akce byla rozhodnutím pořadatelů zrušena pro nepřiznivou epidemiologickou situaci.
URL:https://www.svvcr.cz/kalendar/setkani-pozorovatelu-obse-osn/
END:VEVENT
BEGIN:VEVENT
DTSTART;TZID=Europe/Prague:20201001T150000
DTEND;TZID=Europe/Prague:20201001T170000
DTSTAMP:20260419T232025
CREATED:20191002T125410Z
LAST-MODIFIED:20200916T134420Z
UID:1325-1601564400-1601571600@www.svvcr.cz
SUMMARY:Zasedání výkonného výboru SVV ČR
DESCRIPTION:Místo: DAP Praha \nProgram:\na) Příprava zasedání RV\nb) Příprava Sněmu 2021\, rozdělení úkolů výkonnému výboru SVV ČR\nc) Projednání pokynů pro KO SVV ČR ke konání členských schůzí před volebním\nSněmem SVV ČR v roce 2021 \nZasedání Výkonného výboru a Republikového výboru v roce 2019 – 2021 \n 
URL:https://www.svvcr.cz/kalendar/zasedani-vykonneho-vyboru-svv-cr-8/
LOCATION:DAP Praha\, Vítězné náměstí 684/4\, Praha 6\, Praha\, 16000
CATEGORIES:Zasedání Výkonného výboru
END:VEVENT
BEGIN:VEVENT
DTSTART;VALUE=DATE:20200924
DTEND;VALUE=DATE:20200929
DTSTAMP:20260419T232025
CREATED:20200216T211712Z
LAST-MODIFIED:20200916T133440Z
UID:1870-1600905600-1601337599@www.svvcr.cz
SUMMARY:ZRUŠENO\, BOHUŽEL Pietní cesta s návštěvou památníků padlých na území Chorvatska a Bosny
DESCRIPTION:Pietní cesta do Chorvatska a Bosny se v roce 2020 neuskuteční. \nEpidemiologická situace je velmi nestálá. Příprava cesty a množství dohovorů s AČR\, velvyslanectví Chorvatska\, úřady obcí\, kde plánujeme provést pietní akty je velmi složitá. Proto jsme se rozhodli cestu nerealizovat. Uvidíme příští rok…. \nPodívejte se na foto z cesty roku 2019 \n 
URL:https://www.svvcr.cz/kalendar/pietni-cesta-s-navstevou-pamatniku-padlych-na-uzemi-chorvatska-a-bosny/
END:VEVENT
BEGIN:VEVENT
DTSTART;TZID=Europe/Prague:20200919T100000
DTEND;TZID=Europe/Prague:20200920T170000
DTSTAMP:20260419T232025
CREATED:20200927T100010Z
LAST-MODIFIED:20200927T175531Z
UID:2735-1600509600-1600621200@www.svvcr.cz
SUMMARY:19.9. 2020 proběhlo „Setkání Modrých baretů"
DESCRIPTION:V Českém Krumlově\, kde byla v minulosti dislokována jediná základna Mírových sil OSN\, která připravovala vojáky na jejich působení v zahraničních misích\, se v sobotu 19. září konal každoroční slavnostní nástup téměř dvou stovek mužů a žen. \nPřipomněli jsme 25.výročí od ukončení mírové mise OSN na Balkáně. V misích UNPROFOR a později UNCRO sloužilo několik tisíc československých a českých vojáků. \n 
URL:https://www.svvcr.cz/kalendar/19-9-2020-probehlo-setkani-modrych-baretu/
CATEGORIES:Akce
ATTACH;FMTTYPE=image/jpeg:https://www.svvcr.cz/wp-content/uploads/2020/09/2020-0919-023.jpg
END:VEVENT
BEGIN:VEVENT
DTSTART;TZID=Europe/Prague:20200801T100000
DTEND;TZID=Europe/Prague:20200801T170000
DTSTAMP:20260419T232025
CREATED:20200704T151755Z
LAST-MODIFIED:20200704T152030Z
UID:2356-1596276000-1596301200@www.svvcr.cz
SUMMARY:REPETITOR     T - 23
DESCRIPTION:Vzpomínkové setkání při příležitosti 25. výročí úmrtí ppor. i. m. Petra Valeše a ppor. i. m. Luďka Zemana\, kteří padli při výkonu služby v zahraniční misi UNPROFOR na území bývalé Jugoslávie bude zahájeno před budovou obecního úřadu v obci Rožmitál na Šumavě\,\nv sobotu 1. srpna 2020 od 10:00 hod.
URL:https://www.svvcr.cz/kalendar/repetitor-t-23/
LOCATION:Rožmitál na Šumavě\, Rožmitál na Šumavě 131\, Rožmitál na Šumavě\, jihočeský\, 382 92\, Česká republika
END:VEVENT
BEGIN:VEVENT
DTSTART;VALUE=DATE:20200612
DTEND;VALUE=DATE:20200615
DTSTAMP:20260419T232025
CREATED:20200216T213124Z
LAST-MODIFIED:20200515T195706Z
UID:1883-1591920000-1592179199@www.svvcr.cz
SUMMARY:"V. setkání příslušníků 6th Mechanized Battalion of the Czech Army mise SFOR 1997" v Litobratřicích
DESCRIPTION:Bliží detaily akce:  https://www.svvcr.cz/23-vyroci-zahajeni-mise-sfor/
URL:https://www.svvcr.cz/kalendar/pozvanka-na-v-setkani-2-7-0-prislusniku-6th-mechanized-battalion-of-the-czech-army-mise-sfor-1997/
LOCATION:Litobratřice\, Ranč U věčných lovišť\, Litobratřice
CATEGORIES:Akce
ATTACH;FMTTYPE=image/jpeg:https://www.svvcr.cz/wp-content/uploads/2020/02/litobratřice.jpg
END:VEVENT
BEGIN:VEVENT
DTSTART;TZID=Europe/Prague:20200604T150000
DTEND;TZID=Europe/Prague:20200604T170000
DTSTAMP:20260419T232025
CREATED:20191002T125713Z
LAST-MODIFIED:20200529T091906Z
UID:1329-1591282800-1591290000@www.svvcr.cz
SUMMARY:Zasedání výkonného výboru SVV ČR
DESCRIPTION:Místo: FN v Motole \n \nPro zobrazení v Mapy.cz klikněte na tento odkaz: https://mapy.cz/s/nugahagovo
URL:https://www.svvcr.cz/kalendar/zasedani-vykonneho-vyboru-svv-cr-10/
LOCATION:FN v Motole\, Praha 5\, V Úvalu 84\, Praha 5\, Česká republika
CATEGORIES:Zasedání Výkonného výboru
ATTACH;FMTTYPE=image/jpeg:https://www.svvcr.cz/wp-content/uploads/2020/05/FOTO-zasedání-RV.jpeg
ORGANIZER;CN="P%C5%99edseda":MAILTO:svvcr@seznam.cz
END:VEVENT
BEGIN:VEVENT
DTSTART;TZID=Europe/Prague:20200425T100000
DTEND;TZID=Europe/Prague:20200425T170000
DTSTAMP:20260419T232025
CREATED:20191002T131108Z
LAST-MODIFIED:20200417T201457Z
UID:1335-1587808800-1587834000@www.svvcr.cz
SUMMARY:ZRUŠENO! Zasedání Republikového výboru SVV ČR
DESCRIPTION:Místo: DAP \nZasedání VV je zrušeno. Náhradní termín bude stanoven předsedou.
URL:https://www.svvcr.cz/kalendar/zasedani-republikoveho-vyboru-svv-cr-3/
CATEGORIES:Zasedání Republikového výboru
END:VEVENT
BEGIN:VEVENT
DTSTART;TZID=Europe/Prague:20200402T150000
DTEND;TZID=Europe/Prague:20200402T170000
DTSTAMP:20260419T232025
CREATED:20191002T123125Z
LAST-MODIFIED:20191002T123125Z
UID:1321-1585839600-1585846800@www.svvcr.cz
SUMMARY:Zasedání výkonného výboru SVV ČR
DESCRIPTION:Místo: DAP
URL:https://www.svvcr.cz/kalendar/zasedani-vykonneho-vyboru-svv-cr-6/
CATEGORIES:Zasedání Výkonného výboru
END:VEVENT
BEGIN:VEVENT
DTSTART;VALUE=DATE:20200214
DTEND;VALUE=DATE:20200215
DTSTAMP:20260419T232025
CREATED:20200216T211501Z
LAST-MODIFIED:20200216T211501Z
UID:1868-1581638400-1581724799@www.svvcr.cz
SUMMARY:Setkání válečných veteránů Moravských krajů s veřejností a prezentace ozbrojených sil
DESCRIPTION:Provede: KO SVV Zlín\nMísto: Kroměříž\, Historický sál
URL:https://www.svvcr.cz/kalendar/setkani-valecnych-veteranu-moravskych-kraju-s-verejnosti-a-prezentace-ozbrojenych-sil/
END:VEVENT
BEGIN:VEVENT
DTSTART;TZID=Europe/Prague:20200206T150000
DTEND;TZID=Europe/Prague:20200206T170000
DTSTAMP:20260419T232025
CREATED:20191002T122936Z
LAST-MODIFIED:20191002T130348Z
UID:1319-1581001200-1581008400@www.svvcr.cz
SUMMARY:Zasedání výkonného výboru SVV ČR
DESCRIPTION:Místo: DAP
URL:https://www.svvcr.cz/kalendar/zasedani-vykonneho-vyboru-svv-cr-5/
CATEGORIES:Zasedání Výkonného výboru
END:VEVENT
BEGIN:VEVENT
DTSTART;TZID=Europe/Prague:20191130T080000
DTEND;TZID=Europe/Prague:20191130T170000
DTSTAMP:20260419T232025
CREATED:20191002T122821Z
LAST-MODIFIED:20191002T130305Z
UID:1317-1575100800-1575133200@www.svvcr.cz
SUMMARY:Zasedání výkonného výboru SVV ČR
DESCRIPTION:Místo: VLRZ \nVýjezdní zasedání –  plánování
URL:https://www.svvcr.cz/kalendar/zasedani-vykonneho-vyboru-svv-cr-4/
CATEGORIES:Zasedání Výkonného výboru
END:VEVENT
BEGIN:VEVENT
DTSTART;TZID=Europe/Prague:20191111T110000
DTEND;TZID=Europe/Prague:20191111T170000
DTSTAMP:20260419T232025
CREATED:20191029T115148Z
LAST-MODIFIED:20191029T115148Z
UID:1535-1573470000-1573491600@www.svvcr.cz
SUMMARY:Pietní akt Chomutov
DESCRIPTION:Pietní akt  dne 11. 11. 2019 v 11:00 hod. \norganizuje statutární město Chomutov  u památníku padlých\, parčík u kostela sv. Barbory\, ulice Lipská v Chomutově. \n  \nTohoto aktu se zúčastní tříčlenná delegace Krajského organizace Sdružení válečných veteránů ČR – Ústí nad Labem\, kterou vede pplk. vv. Ing. Karel Štěpanovský. \nV rámci slavnostního aktu delegace položí věnec SVV ČR. \n  \nOrganizuje \nIng. Bc. Stanislav HÁJEK Úsek kancelář tajemníka \nSilvie ŠKUBOVÁ: \nKooperuje \nprap. František Němec\, vrchní praporčík 41.mpr.Žatec \nKO Ústí nad Labem – pplk. vv. Ing. Karel Štěpanovský\, předseda KO Ústí n/L. stek@email.cz\, \n  \ninfo o padlých \nhttp://www.inmemoriam.army.cz/stabni-praporcik-memoriam-david-benes \nhttp://www.inmemoriam.army.cz/stabni-praporcik-memoriam-martin-marcin
URL:https://www.svvcr.cz/kalendar/pietni-akt-chomutov/
END:VEVENT
BEGIN:VEVENT
DTSTART;TZID=Europe/Prague:20191111T110000
DTEND;TZID=Europe/Prague:20191111T170000
DTSTAMP:20260419T232025
CREATED:20191029T114854Z
LAST-MODIFIED:20191029T114919Z
UID:1531-1573470000-1573491600@www.svvcr.cz
SUMMARY:Pietní akt v Jičíně
DESCRIPTION:Pietní akt v pondělí 11.11. v 11 hod. a 11 minut v Jičíně\, Obřadní síň \, Lidické náměstí \nPietní akt v Jičíně organizuje město dle vlastního programu\, místostarosta Mgr. Petr Hamáček \n  \ninfo o padlém: \nhttp://www.inmemoriam.army.cz/stabni-praporcik-memoriam-ivo-klusak
URL:https://www.svvcr.cz/kalendar/pietni-akt-v-jicine/
END:VEVENT
BEGIN:VEVENT
DTSTART;TZID=Europe/Prague:20191109T150000
DTEND;TZID=Europe/Prague:20191109T170000
DTSTAMP:20260419T232025
CREATED:20191029T114454Z
LAST-MODIFIED:20191029T114454Z
UID:1526-1573311600-1573318800@www.svvcr.cz
SUMMARY:Pietní akt Týniště nad Orlicí
DESCRIPTION:Pietní akt v sobotu 9.11. \n v  15:00 Týniště nad Orlicí\, hřbitov \nPietního aktu v Týništi nad Orlicí se zúčastní  Ing. Simona Gavláková \, členka Rady města \nZa Výkonný výbor SVV ČR akci organizuje kpt. vv  Bc. Kateřina Jindrová \, katajin1310@gmail.com \, \n  \ninfo o padlých \nhttp://www.inmemoriam.army.cz/stabni-praporcik-memoriam-jaroslav-lieskovan \nhttp://www.inmemoriam.army.cz/stabni-praporcik-memoriam-jan-senkyr \nhttp://www.inmemoriam.army.cz/stabni-praporcik-memoriam-libor-ligac
URL:https://www.svvcr.cz/kalendar/pietni-akt-tyniste-nad-orlici/
END:VEVENT
BEGIN:VEVENT
DTSTART;TZID=Europe/Prague:20191109T120000
DTEND;TZID=Europe/Prague:20191109T170000
DTSTAMP:20260419T232025
CREATED:20191029T114135Z
LAST-MODIFIED:20191029T114228Z
UID:1524-1573300800-1573318800@www.svvcr.cz
SUMMARY:Pietní akt v Hradci Králové
DESCRIPTION:Pietní akt v sobotu 9.11. \n ve 12:00 na Lesním hřbitově v Hradci Králové \nPietního aktu v Hradci Králové se zúčastní  Ing. Monika Štayrová\, 1. náměstkyně primátora. \nZa KO Hradec Králové akci organizuje pplk. vz. Ing. Pavel Veverka \nProgram: 9-11-2019-program \nInfo o padlých: \nhttp://www.inmemoriam.army.cz/stabni-praporcik-memoriam-jaroslav-lieskovan \nhttp://www.inmemoriam.army.cz/stabni-praporcik-memoriam-jan-senkyr \nhttp://www.inmemoriam.army.cz/stabni-praporcik-memoriam-libor-ligac
URL:https://www.svvcr.cz/kalendar/pietni-akt-v-hradci-kralove/
CATEGORIES:Akce,Pietní akce
END:VEVENT
BEGIN:VEVENT
DTSTART;TZID=Europe/Prague:20191108T150000
DTEND;TZID=Europe/Prague:20191108T170000
DTSTAMP:20260419T232025
CREATED:20191029T125620Z
LAST-MODIFIED:20191108T181045Z
UID:1541-1573225200-1573232400@www.svvcr.cz
SUMMARY:PIETNÍ AKCE „DEN VÁLEČNÝCH VETERÁNŮ A OBĚTÍ VÁLEK"
DESCRIPTION:Organizátor akce: Sdružení válečných veteránů ČR\, Městská část Praha 5 \nDatum akce:pátek\, 8. listopadu 2019 \nČas:15:00 hod. \nMísto: 1. část: náměstí Kinských\, prostor u fontány 2. část: foyer domu náměstí Kinských 741/6\, dříve UNICEF \n  \nPŘÍLOHY: \n8-11-2019-program-pietni-akce \n8-11-2019-pozvanka
URL:https://www.svvcr.cz/kalendar/pietni-akce-den-valecnych-veteranu-a-obeti-valek/
LOCATION:náměstí Kinských\, Praha\, nám. Kinských\, Praha 5\, 15000\, Česká republika
ATTACH;FMTTYPE=image/jpeg:https://www.svvcr.cz/wp-content/uploads/2019/10/ilustr-foto-pieta.jpg
END:VEVENT
BEGIN:VEVENT
DTSTART;TZID=Europe/Prague:20191108T150000
DTEND;TZID=Europe/Prague:20191108T170000
DTSTAMP:20260419T232025
CREATED:20190920T105704Z
LAST-MODIFIED:20191108T161035Z
UID:1243-1573225200-1573232400@www.svvcr.cz
SUMMARY:Pietní akt k uctění památky obětí válek a "Dne válečných veteránů - Praha 5
DESCRIPTION:Místo konání: Náměstí Kinských\, Praha 5 \nPersonální zabezpečení: 1x trubač\, Sextet UH\, AČR\, 5x strážný \nPřílohy: \n8-11-2019-program-pietni-akce.pdf \n8-11-2019-pozvanka.pdf
URL:https://www.svvcr.cz/kalendar/pietni-akt-k-ucteni-pamatky-obeti-valek-a-dne-valecnych-veteranu-praha-5/
LOCATION:náměstí Kinských\, Praha\, nám. Kinských\, Praha 5\, 15000\, Česká republika
END:VEVENT
BEGIN:VEVENT
DTSTART;TZID=Europe/Prague:20191024T080000
DTEND;TZID=Europe/Prague:20191024T170000
DTSTAMP:20260419T232025
CREATED:20191024T124427Z
LAST-MODIFIED:20191024T124550Z
UID:1513-1571904000-1571936400@www.svvcr.cz
SUMMARY:Koncert v Rudolfinu 8. 11. 2019 v 18:00
DESCRIPTION:AČR pořádá\, jak je již tradicí\, koncert dne 8. listopadu 2019 od 18:00 hodin\, Rudolfinum Praha 1 \nGenerální štáb pozval deset novodobých válečných veteránů s doprovodem. \nPředsednictvo SVV ČR oslovilo zájemce z řad převážně pražských a středočeských válečných veteránů a nominovalo 10 osob k účasti na tomto prestižním koncertě.
URL:https://www.svvcr.cz/kalendar/koncert-v-rudolfinu-8-11-2019-v-1800/
CATEGORIES:Akce
ATTACH;FMTTYPE=image/jpeg:https://www.svvcr.cz/wp-content/uploads/2019/10/koncert-acr.jpg
END:VEVENT
BEGIN:VEVENT
DTSTART;TZID=Europe/Prague:20191023T180000
DTEND;TZID=Europe/Prague:20191023T203000
DTSTAMP:20260419T232025
CREATED:20191019T212454Z
LAST-MODIFIED:20191019T212454Z
UID:1475-1571853600-1571862600@www.svvcr.cz
SUMMARY:Koncert pro veterány AČR
DESCRIPTION:Cestou Odboru pro válečné veterány MO oslovil Mgr. Vladimír Darjanin\, ředitel Pražského komorního orchestru\, organizaci Sdruženi válečných veteránů ČR a nabídl volné vstupenky na koncert ve Valdštejnském paláci v Praze 1.\nCelkem 59 válečných veteránů – členů SVV ČR se svým doprovodem se zúčastní ve středu 23.10 2019 od 18 hodin koncertu\, na kterém vystoupí koncertní mistr Leoš Čepický s Pražským komorním orchestrem. Po koncertu je připravena organizovaná prohlídka reprezentativních prostor Valdštejnského paláce.\nSdružení válečných veteránů ČR srdečně děkuje za milé pozvání. \nhttps://www.pko.cz/concert/koncert-pro-veterany-armady-cr-u-prilezitosti-30-let-od-sametove-revoluce/ \nKe stažení v PDF: 2019-Pozvanka-na-Koncert
URL:https://www.svvcr.cz/kalendar/koncert-pro-veterany-acr/
END:VEVENT
BEGIN:VEVENT
DTSTART;TZID=Europe/Prague:20191019T100000
DTEND;TZID=Europe/Prague:20191019T170000
DTSTAMP:20260419T232025
CREATED:20191002T130705Z
LAST-MODIFIED:20191002T130705Z
UID:1333-1571479200-1571504400@www.svvcr.cz
SUMMARY:Zasedání Republikového výboru SVV ČR
DESCRIPTION:Místo: DAP
URL:https://www.svvcr.cz/kalendar/zasedani-republikoveho-vyboru-svv-cr-2/
CATEGORIES:Zasedání Republikového výboru
END:VEVENT
BEGIN:VEVENT
DTSTART;TZID=Europe/Prague:20191011T100000
DTEND;TZID=Europe/Prague:20191012T100000
DTSTAMP:20260419T232025
CREATED:20191002T110143Z
LAST-MODIFIED:20191002T113008Z
UID:1288-1570788000-1570874400@www.svvcr.cz
SUMMARY:Sympozium "Péče o novodobé válečné veterány rezortem obrany"
DESCRIPTION:Předsednictvo SVV ČR organizuje 16. ročník Setkání bývalých pozorovatelů OSN a OBSE formou akce\, která proběhne ve dvou na sebe navazujících částí. \nPřihlášky zašlete do 23. 9. 2019 na adresu cimermanr@seznam.cz \nPříloha: \n\nPlán setkání\nPozvánka\nKomorní Hrádek\n\n  \n        
URL:https://www.svvcr.cz/kalendar/sympozium-pece-o-novodobe-valecne-veterany-rezortem-obrany/
END:VEVENT
BEGIN:VEVENT
DTSTART;TZID=Europe/Prague:20191003T150000
DTEND;TZID=Europe/Prague:20191003T170000
DTSTAMP:20260419T232025
CREATED:20191002T122606Z
LAST-MODIFIED:20191002T130141Z
UID:1314-1570114800-1570122000@www.svvcr.cz
SUMMARY:Zasedání výkonného výboru SVV ČR
DESCRIPTION:Místo: DAP
URL:https://www.svvcr.cz/kalendar/zasedani-vykonneho-vyboru-svv-cr-3/
CATEGORIES:Zasedání Výkonného výboru
END:VEVENT
BEGIN:VEVENT
DTSTART;TZID=Europe/Prague:20190615T100000
DTEND;TZID=Europe/Prague:20190615T170000
DTSTAMP:20260419T232025
CREATED:20191002T130558Z
LAST-MODIFIED:20191002T130558Z
UID:1331-1560592800-1560618000@www.svvcr.cz
SUMMARY:Zasedání Republikového výboru SVV ČR
DESCRIPTION:
URL:https://www.svvcr.cz/kalendar/zasedani-republikoveho-vyboru-svv-cr/
CATEGORIES:Zasedání Republikového výboru
END:VEVENT
BEGIN:VEVENT
DTSTART;TZID=Europe/Prague:20190604T150000
DTEND;TZID=Europe/Prague:20190604T170000
DTSTAMP:20260419T232025
CREATED:20191002T122144Z
LAST-MODIFIED:20191002T125943Z
UID:1312-1559660400-1559667600@www.svvcr.cz
SUMMARY:Zasedání výkonného výboru SVV ČR
DESCRIPTION:Místo: DAP
URL:https://www.svvcr.cz/kalendar/zasedani-vykonneho-vyboru-svv-cr-2/
CATEGORIES:Zasedání Výkonného výboru
END:VEVENT
BEGIN:VEVENT
DTSTART;TZID=Europe/Prague:20190502T150000
DTEND;TZID=Europe/Prague:20190502T170000
DTSTAMP:20260419T232025
CREATED:20191002T121929Z
LAST-MODIFIED:20191002T125843Z
UID:1308-1556809200-1556816400@www.svvcr.cz
SUMMARY:Zasedání výkonného výboru SVV ČR
DESCRIPTION:Místo: DAP
URL:https://www.svvcr.cz/kalendar/zasedani-vykonneho-vyboru-svv-cr/
CATEGORIES:Zasedání Výkonného výboru
END:VEVENT
END:VCALENDAR