BEGIN:VCALENDAR
VERSION:2.0
PRODID:-//Sdružení válečných veteránů ČR - ECPv6.15.20//NONSGML v1.0//EN
CALSCALE:GREGORIAN
METHOD:PUBLISH
X-WR-CALNAME:Sdružení válečných veteránů ČR
X-ORIGINAL-URL:https://www.svvcr.cz
X-WR-CALDESC:Akce na Sdružení válečných veteránů ČR
REFRESH-INTERVAL;VALUE=DURATION:PT1H
X-Robots-Tag:noindex
X-PUBLISHED-TTL:PT1H
BEGIN:VTIMEZONE
TZID:Europe/Prague
BEGIN:DAYLIGHT
TZOFFSETFROM:+0100
TZOFFSETTO:+0200
TZNAME:CEST
DTSTART:20240331T010000
END:DAYLIGHT
BEGIN:STANDARD
TZOFFSETFROM:+0200
TZOFFSETTO:+0100
TZNAME:CET
DTSTART:20241027T010000
END:STANDARD
BEGIN:DAYLIGHT
TZOFFSETFROM:+0100
TZOFFSETTO:+0200
TZNAME:CEST
DTSTART:20250330T010000
END:DAYLIGHT
BEGIN:STANDARD
TZOFFSETFROM:+0200
TZOFFSETTO:+0100
TZNAME:CET
DTSTART:20251026T010000
END:STANDARD
BEGIN:DAYLIGHT
TZOFFSETFROM:+0100
TZOFFSETTO:+0200
TZNAME:CEST
DTSTART:20260329T010000
END:DAYLIGHT
BEGIN:STANDARD
TZOFFSETFROM:+0200
TZOFFSETTO:+0100
TZNAME:CET
DTSTART:20261025T010000
END:STANDARD
END:VTIMEZONE
BEGIN:VEVENT
DTSTART;TZID=Europe/Prague:20250722T080000
DTEND;TZID=Europe/Prague:20250722T170000
DTSTAMP:20260421T111851
CREATED:20250722T093056Z
LAST-MODIFIED:20250722T093142Z
UID:13850-1753171200-1753203600@www.svvcr.cz
SUMMARY:Pokračujeme v podpoře válečných veteránů
DESCRIPTION:V sobotu 19. července 2025 pokračoval společný projekt Ministerstva obrany ČR a Sdružení válečných veteránů ČR zaměřený na podporu našich válečných veteránů. \nTentokrát se jednalo o předání schodolezu dceři válečného veterána praporčíka Miloše H.\, který je plně upoután na invalidní vozík. Díky schodolezu může nyní Miloš H. bez obtíží a bez nutnosti asistence pobývat také u své dcery\, která se svou rodinou žije ve třetím patře domu. Pásový schodolez zvládne vyvést invalidní vozík s pacientem po běžných schodech\, samozřejmě v obou směrech. \nZa společnost MANUS Prostějov schodolez předával válečný veterán  František Kovařík\, který náhodou pracuje pro dodavatele jako servisní technik. Na předání si oblékl tričko s motivem podpory válečných veteránů. Františku\, srdečně ti děkujeme. \nProjekt Péče o válečné veterány 2025 pokračuje i v letních měsících. \nSledujte aktuální dění na našich webových stránkách. \n\n		\n		\n			\n				\n			\n			\n				\n			\n			\n				\n			\n			\n				\n			\n		\n\n 
URL:https://www.svvcr.cz/kalendar/pokracujeme-v-podpore-valecnych-veteranu/
CATEGORIES:Akce
ATTACH;FMTTYPE=image/jpeg:https://www.svvcr.cz/wp-content/uploads/2025/07/IMG_0872.jpeg
END:VEVENT
END:VCALENDAR