BEGIN:VCALENDAR
VERSION:2.0
PRODID:-//Sdružení válečných veteránů ČR - ECPv6.15.20//NONSGML v1.0//EN
CALSCALE:GREGORIAN
METHOD:PUBLISH
X-WR-CALNAME:Sdružení válečných veteránů ČR
X-ORIGINAL-URL:https://www.svvcr.cz
X-WR-CALDESC:Akce na Sdružení válečných veteránů ČR
REFRESH-INTERVAL;VALUE=DURATION:PT1H
X-Robots-Tag:noindex
X-PUBLISHED-TTL:PT1H
BEGIN:VTIMEZONE
TZID:Europe/Prague
BEGIN:DAYLIGHT
TZOFFSETFROM:+0100
TZOFFSETTO:+0200
TZNAME:CEST
DTSTART:20230326T010000
END:DAYLIGHT
BEGIN:STANDARD
TZOFFSETFROM:+0200
TZOFFSETTO:+0100
TZNAME:CET
DTSTART:20231029T010000
END:STANDARD
BEGIN:DAYLIGHT
TZOFFSETFROM:+0100
TZOFFSETTO:+0200
TZNAME:CEST
DTSTART:20240331T010000
END:DAYLIGHT
BEGIN:STANDARD
TZOFFSETFROM:+0200
TZOFFSETTO:+0100
TZNAME:CET
DTSTART:20241027T010000
END:STANDARD
BEGIN:DAYLIGHT
TZOFFSETFROM:+0100
TZOFFSETTO:+0200
TZNAME:CEST
DTSTART:20250330T010000
END:DAYLIGHT
BEGIN:STANDARD
TZOFFSETFROM:+0200
TZOFFSETTO:+0100
TZNAME:CET
DTSTART:20251026T010000
END:STANDARD
END:VTIMEZONE
BEGIN:VEVENT
DTSTART;TZID=Europe/Prague:20241212T153000
DTEND;TZID=Europe/Prague:20241212T170000
DTSTAMP:20260423T165304
CREATED:20241115T075901Z
LAST-MODIFIED:20241128T115016Z
UID:11956-1734017400-1734022800@www.svvcr.cz
SUMMARY:12.12. 2024 PROSINCOVÝ ČTVRTEK V ROCE 2024
DESCRIPTION:Dne 12. 12. 2024 v 15:30 hod. se v Komunitním centru pro válečné veterány U čtvrté baterie 194\, 162 00 Praha 6 (naproti hlavnímu vchodu do Vojenské nemocnice) uskuteční setkání válečných veteránů. \nProgram:\n– beseda s poslancem Parlamentu ČR\, místopředsedou výboru pro obranu a předsedou podvýboru pro válečné veterány Ing. Pavlem Růžičkou.\n– beseda s ředitelem odboru pro válečné veterány a vojenské hroby MO ČR plk. Ing. Robertem Speychalem\n– krátké vyhodnocení tematických čtvrtků roku 2024 \nZveme válečné veterány. Obzvláště z KO Praha a Středočeský kraj.  \nZ kapacitních důvodů – Podmínkou účasti je písemné přihlášení na email hanousek.petr@seznam.cz. Termín: 8.12. 2024 \n 
URL:https://www.svvcr.cz/kalendar/12-12-2024-prosincovy-ctvrtek-v-roce-2024/
LOCATION:Komunitní centrum pro válečné veterány Praha\, U čtvrté baterie 194\, Praha 6\, Česká Republika\, 16200
CATEGORIES:Akce,Besedy ve 2. čtvrtek v měsíci
ATTACH;FMTTYPE=image/jpeg:https://www.svvcr.cz/wp-content/uploads/2024/11/santa-military.jpg
ORGANIZER;CN="Petr Hanousek":MAILTO:hanousek.petr@seznam.cz
END:VEVENT
END:VCALENDAR