BEGIN:VCALENDAR
VERSION:2.0
PRODID:-//Sdružení válečných veteránů ČR - ECPv6.15.20//NONSGML v1.0//EN
CALSCALE:GREGORIAN
METHOD:PUBLISH
X-WR-CALNAME:Sdružení válečných veteránů ČR
X-ORIGINAL-URL:https://www.svvcr.cz
X-WR-CALDESC:Akce na Sdružení válečných veteránů ČR
REFRESH-INTERVAL;VALUE=DURATION:PT1H
X-Robots-Tag:noindex
X-PUBLISHED-TTL:PT1H
BEGIN:VTIMEZONE
TZID:Europe/Prague
BEGIN:DAYLIGHT
TZOFFSETFROM:+0100
TZOFFSETTO:+0200
TZNAME:CEST
DTSTART:20230326T010000
END:DAYLIGHT
BEGIN:STANDARD
TZOFFSETFROM:+0200
TZOFFSETTO:+0100
TZNAME:CET
DTSTART:20231029T010000
END:STANDARD
BEGIN:DAYLIGHT
TZOFFSETFROM:+0100
TZOFFSETTO:+0200
TZNAME:CEST
DTSTART:20240331T010000
END:DAYLIGHT
BEGIN:STANDARD
TZOFFSETFROM:+0200
TZOFFSETTO:+0100
TZNAME:CET
DTSTART:20241027T010000
END:STANDARD
BEGIN:DAYLIGHT
TZOFFSETFROM:+0100
TZOFFSETTO:+0200
TZNAME:CEST
DTSTART:20250330T010000
END:DAYLIGHT
BEGIN:STANDARD
TZOFFSETFROM:+0200
TZOFFSETTO:+0100
TZNAME:CET
DTSTART:20251026T010000
END:STANDARD
END:VTIMEZONE
BEGIN:VEVENT
DTSTART;TZID=Europe/Prague:20240919T153000
DTEND;TZID=Europe/Prague:20240919T173000
DTSTAMP:20260424T164801
CREATED:20240910T113125Z
LAST-MODIFIED:20240910T114823Z
UID:11521-1726759800-1726767000@www.svvcr.cz
SUMMARY:19.9. v 15:30 TÉMATICKÝ ČTVRTEK v Komunitním centru pro VV\, Praha
DESCRIPTION:OLYMPUS DIGITAL CAMERA \nZveme válečné veterány na setkání v Komunitním centru Praha\, na den 19.9. od 15:30 hod. Tématem je „Mise Afghánistán“.  \nVystoupí plk. Ing. Gabriel Kovács\, který sloužil v misi UN na Balkáně\, jako pozorovatel OSN a v misi v Afghánistánu. Druhým vystupujícím je pplk. Ing. Miroslav Ječmen\, který strávil v Afganistánu\, nejdříve jako UNV a poté jako zaměstnanec UN bez 4 měsíců celkem 5 let. Třetí vystupující je také voják\, který sloužil v Afghánistánu a bude překvapením….. \nOčekáváme\, že se akce zúčastní váleční veteráni z KO Praha a Střední Čechy . \nPOKUD UVAŽUJEŠ O ÚČASTI\, VYPLŃ PŘIHLÁŠKU https://forms.gle/…8N6 \n  \n  \n\n		\n		\n			\n				\n			\n			\n				\n			\n			\n				\n			\n			\n				\n			\n			\n				\n			\n			\n				\n			\n			\n				\n			\n			\n				\n			\n				\n				OLYMPUS DIGITAL CAMERA\n				\n			\n				\n			\n				\n				OLYMPUS DIGITAL CAMERA
URL:https://www.svvcr.cz/kalendar/19-9-v-1530-tematicky-ctvrtek-v-komunitnim-centru-pro-vv-praha/
LOCATION:KCVV Praha\, U čtvrté baterie 194\, Praha\, 16200\, Czech Republic
CATEGORIES:Akce,Besedy ve 2. čtvrtek v měsíci
ATTACH;FMTTYPE=image/jpeg:https://www.svvcr.cz/wp-content/uploads/2024/09/03.jpg
ORGANIZER;CN="Lad. Sornas":MAILTO:svvcr@seznam.cz
END:VEVENT
END:VCALENDAR