BEGIN:VCALENDAR
VERSION:2.0
PRODID:-//Sdružení válečných veteránů ČR - ECPv6.15.20//NONSGML v1.0//EN
CALSCALE:GREGORIAN
METHOD:PUBLISH
X-WR-CALNAME:Sdružení válečných veteránů ČR
X-ORIGINAL-URL:https://www.svvcr.cz
X-WR-CALDESC:Akce na Sdružení válečných veteránů ČR
REFRESH-INTERVAL;VALUE=DURATION:PT1H
X-Robots-Tag:noindex
X-PUBLISHED-TTL:PT1H
BEGIN:VTIMEZONE
TZID:Europe/Prague
BEGIN:DAYLIGHT
TZOFFSETFROM:+0100
TZOFFSETTO:+0200
TZNAME:CEST
DTSTART:20230326T010000
END:DAYLIGHT
BEGIN:STANDARD
TZOFFSETFROM:+0200
TZOFFSETTO:+0100
TZNAME:CET
DTSTART:20231029T010000
END:STANDARD
BEGIN:DAYLIGHT
TZOFFSETFROM:+0100
TZOFFSETTO:+0200
TZNAME:CEST
DTSTART:20240331T010000
END:DAYLIGHT
BEGIN:STANDARD
TZOFFSETFROM:+0200
TZOFFSETTO:+0100
TZNAME:CET
DTSTART:20241027T010000
END:STANDARD
BEGIN:DAYLIGHT
TZOFFSETFROM:+0100
TZOFFSETTO:+0200
TZNAME:CEST
DTSTART:20250330T010000
END:DAYLIGHT
BEGIN:STANDARD
TZOFFSETFROM:+0200
TZOFFSETTO:+0100
TZNAME:CET
DTSTART:20251026T010000
END:STANDARD
END:VTIMEZONE
BEGIN:VEVENT
DTSTART;TZID=Europe/Prague:20240404T160000
DTEND;TZID=Europe/Prague:20240404T173000
DTSTAMP:20260426T034545
CREATED:20240330T183410Z
LAST-MODIFIED:20240330T183410Z
UID:10626-1712246400-1712251800@www.svvcr.cz
SUMMARY:4.4. 2024 Zasedání předsednictva SVV ČR
DESCRIPTION:Předsednictvo a část RV se sejde k přípravě Sněmu SVV ČR .\nKromě předsedy a místopředsedů se zúčastní předseda KO Praha\, Střední Čechy a Plzeň.\nÚčastníci byli pozváni e-mailem.
URL:https://www.svvcr.cz/kalendar/4-4-2024-zasedani-predsednictva-svv-cr/
LOCATION:KCVV Praha\, U čtvrté baterie 194\, Praha\, 16200\, Czech Republic
CATEGORIES:Zasedání Předsednictva
ATTACH;FMTTYPE=image/jpeg:https://www.svvcr.cz/wp-content/uploads/2023/12/IMG_4073.jpeg
ORGANIZER;CN="Lad. Sornas":MAILTO:svvcr@seznam.cz
END:VEVENT
BEGIN:VEVENT
DTSTART;TZID=Europe/Prague:20240411T153000
DTEND;TZID=Europe/Prague:20240411T170000
DTSTAMP:20260426T034545
CREATED:20240330T185649Z
LAST-MODIFIED:20240330T190258Z
UID:10628-1712849400-1712854800@www.svvcr.cz
SUMMARY:11.4. 2024 Beseda s velvyslankyní republiky Bosna a Hercegovina
DESCRIPTION:V rámci „tematického čtvrtku“ proběhne beseda s J.E.  Martinou MLINAREVIĆ. Tématem besedy bude současný život v Bosně a Hercegovině\,  spolu s J.E. se  zúčastní pan  Hadis Medencevic\, který pohovoří o své knize Krev\, med a chmel. \nSeznámíme přítomné také s plánem akce\, kterou plánuje Sdružení válečných veteránů České republiky  ve spolupráci s 24. základnou dopravního letectva Armády České republiky pietní cestu do Bosny a Hercegoviny. Předpokládaný termín pietní cesty je 19. června 2024\, kdy je plánován let Praha – Mostar a odtud autobusem k pietnímu místu Stipaniči\, kde na místě tragické události (pádu vrtulníku při plnění úkolů v rámci mise SFOR) bude uctěna památka obětí. Předpokládá se účast dětí\, příbuzných a kamarádů obětí tohoto neštěstí a dále pak zástupce Poslanecké sněmovny Parlamentu České republiky. Účast přislíbil předseda podvýboru pro válečné veterány Poslanecké sněmovny Parlamentu ČR Ing. Pavel Růžička. \nVelvyslankyně republiky Bosna a Hercegovina\, J.E. Martina MLINAREVIĆ poskytla této akci oficiální záštitu. \n 
URL:https://www.svvcr.cz/kalendar/11-4-2024-beseda-s-velvyslankyni-republiky-bosna-a-hercegovina/
LOCATION:KCVV Praha\, U čtvrté baterie 194\, Praha\, 16200\, Czech Republic
CATEGORIES:Besedy ve 2. čtvrtek v měsíci
ATTACH;FMTTYPE=image/png:https://www.svvcr.cz/wp-content/uploads/2024/03/Znak-BiHpng.png
END:VEVENT
BEGIN:VEVENT
DTSTART;TZID=Europe/Prague:20240420T080000
DTEND;TZID=Europe/Prague:20240420T170000
DTSTAMP:20260426T034545
CREATED:20240330T191431Z
LAST-MODIFIED:20240330T191431Z
UID:10636-1713600000-1713632400@www.svvcr.cz
SUMMARY:20.4. 2024 KO Plzeň pořádá „Oheň válečných veteránů“
DESCRIPTION:Plzeňská krajská organizace válečných veteránů pořádá v sobotu 20.4. 2023 od 13:00 hod. „Oheň válečných veteránů“ na rybníku Šídlovák. \nZveme válečné veterány KO Plzeň i ostatních krajů\, hlavně z blízké Krajské organizace Karlovy Vary\, Střední Čechy a Prahy. \nPřipravujeme neformální setkání kamarádů a jejich rodinných příslušníků a přátel u táboráku s grilováním\, výtečným plzeňským Prazdrojem. (Domů řídí manželky). \nZájemci se mohou nahlásit emailem  svvcr.plzen@seznam.cz
URL:https://www.svvcr.cz/kalendar/20-4-2024-ko-plzen-porada-ohen-valecnych-veteranu/
LOCATION:Ranč Šídlovák\, Plzeň\, Plzeň\, 323 00
CATEGORIES:Akce
ATTACH;FMTTYPE=image/jpeg:https://www.svvcr.cz/wp-content/uploads/2023/04/IMG_9796-1-2-scaled.jpg
ORGANIZER;CN="Bc. Pavel Kalina":MAILTO:svvcr.plzen@seznam.cz
END:VEVENT
END:VCALENDAR