BEGIN:VCALENDAR
VERSION:2.0
PRODID:-//Sdružení válečných veteránů ČR - ECPv6.15.20//NONSGML v1.0//EN
CALSCALE:GREGORIAN
METHOD:PUBLISH
X-WR-CALNAME:Sdružení válečných veteránů ČR
X-ORIGINAL-URL:https://www.svvcr.cz
X-WR-CALDESC:Akce na Sdružení válečných veteránů ČR
REFRESH-INTERVAL;VALUE=DURATION:PT1H
X-Robots-Tag:noindex
X-PUBLISHED-TTL:PT1H
BEGIN:VTIMEZONE
TZID:Europe/Prague
BEGIN:DAYLIGHT
TZOFFSETFROM:+0100
TZOFFSETTO:+0200
TZNAME:CEST
DTSTART:20240331T010000
END:DAYLIGHT
BEGIN:STANDARD
TZOFFSETFROM:+0200
TZOFFSETTO:+0100
TZNAME:CET
DTSTART:20241027T010000
END:STANDARD
BEGIN:DAYLIGHT
TZOFFSETFROM:+0100
TZOFFSETTO:+0200
TZNAME:CEST
DTSTART:20250330T010000
END:DAYLIGHT
BEGIN:STANDARD
TZOFFSETFROM:+0200
TZOFFSETTO:+0100
TZNAME:CET
DTSTART:20251026T010000
END:STANDARD
BEGIN:DAYLIGHT
TZOFFSETFROM:+0100
TZOFFSETTO:+0200
TZNAME:CEST
DTSTART:20260329T010000
END:DAYLIGHT
BEGIN:STANDARD
TZOFFSETFROM:+0200
TZOFFSETTO:+0100
TZNAME:CET
DTSTART:20261025T010000
END:STANDARD
END:VTIMEZONE
BEGIN:VEVENT
DTSTART;TZID=Europe/Prague:20250427T100000
DTEND;TZID=Europe/Prague:20250427T170000
DTSTAMP:20260420T062901
CREATED:20250421T182741Z
LAST-MODIFIED:20250421T195451Z
UID:13143-1745748000-1745773200@www.svvcr.cz
SUMMARY:27.4. 2024 VÝSTAVA NOŽŮ V KCVV BRNO
DESCRIPTION:Máš doma nůž? Je něčím zvláštní? Nikdo jiný takový nemá? Tak ho nech v klidu v šuplíku a přijď se podívat na na výstavu nožů. \nAkce proběhne v KCVV Brno\, Dobrovského 27c (vchod Vodova ulice)\, v neděli 27.4. 2025 od 10:00 do 16:30.  \nAkci pořádá nprap. Marek NOVOTNÝ\, Agentura pro podporu válečných veteránů. Na programu je přednáška mjr. R.Hippíka „Geneze armádního nože“ a nože firmy MIKOV z projektu Válečný veterán.
URL:https://www.svvcr.cz/kalendar/27-4-2024-vystava-nozu-v-kcvv-brno/
LOCATION:KCVV Brno\, Dobrovského 27C\, Brno\, Czech Republic
ATTACH;FMTTYPE=image/jpeg:https://www.svvcr.cz/wp-content/uploads/2025/04/489307405_697086459674425_6076091548383071607_n.jpg
END:VEVENT
END:VCALENDAR