BEGIN:VCALENDAR
VERSION:2.0
PRODID:-//Sdružení válečných veteránů ČR - ECPv6.15.20//NONSGML v1.0//EN
CALSCALE:GREGORIAN
METHOD:PUBLISH
X-ORIGINAL-URL:https://www.svvcr.cz
X-WR-CALDESC:Akce na Sdružení válečných veteránů ČR
REFRESH-INTERVAL;VALUE=DURATION:PT1H
X-Robots-Tag:noindex
X-PUBLISHED-TTL:PT1H
BEGIN:VTIMEZONE
TZID:Europe/Prague
BEGIN:DAYLIGHT
TZOFFSETFROM:+0100
TZOFFSETTO:+0200
TZNAME:CEST
DTSTART:20240331T010000
END:DAYLIGHT
BEGIN:STANDARD
TZOFFSETFROM:+0200
TZOFFSETTO:+0100
TZNAME:CET
DTSTART:20241027T010000
END:STANDARD
BEGIN:DAYLIGHT
TZOFFSETFROM:+0100
TZOFFSETTO:+0200
TZNAME:CEST
DTSTART:20250330T010000
END:DAYLIGHT
BEGIN:STANDARD
TZOFFSETFROM:+0200
TZOFFSETTO:+0100
TZNAME:CET
DTSTART:20251026T010000
END:STANDARD
BEGIN:DAYLIGHT
TZOFFSETFROM:+0100
TZOFFSETTO:+0200
TZNAME:CEST
DTSTART:20260329T010000
END:DAYLIGHT
BEGIN:STANDARD
TZOFFSETFROM:+0200
TZOFFSETTO:+0100
TZNAME:CET
DTSTART:20261025T010000
END:STANDARD
END:VTIMEZONE
BEGIN:VEVENT
DTSTART;TZID=Europe/Prague:20250424T160000
DTEND;TZID=Europe/Prague:20250424T170000
DTSTAMP:20260420T044152
CREATED:20250424T123521Z
LAST-MODIFIED:20250424T123855Z
UID:13184-1745510400-1745514000@www.svvcr.cz
SUMMARY:20.4. v 16:00  P O Z V Á N K A Na výroční členskou schůzi SVV ČR KO Jihomoravského kraje
DESCRIPTION:Jménem výboru krajské organizace vás srdečně zvu na výroční členskou schůzi\, která se koná dne 24. dubna 2025 v 16.00 hodin v prostorách Komunitního centra válečných veteránů\, Dobrovského 27\, budova C\, vchod z ulice Vodova. Pokud by řádná schůze nebyla vzhledem k počtu účastníků schopná usnášení\, svolávám náhradní členskou schůzi na 24. dubna 2025 od 16.30 hodin. \nPROGRAM: 1) Zahájení\, schválení zapisovatele a ověřovatele zápisu 2) Schválení programu schůze 3) Informace o situaci RV a předsednictva SVV ČR\, výboru KO JMK a akcích SVV v roce 2024 a 2025 4) Zpráva o hospodaření KO JMK\, stavu členské základny a výběru členských příspěvků 5) Příprava Sněmu SVV ČR 2025\, volba delegátů 6) Doplnění výboru KO SVV JMK – volba člena 7) Akce do plánu činnosti KO SVV JMK v roce 2025 8) Diskuse 9) Různé 10) Usnesení 11) Závěr \nplk. v.v. Ing. Ivo Musil\, MSc. v. r. předseda výboru KO SVV JMK
URL:https://www.svvcr.cz/kalendar/20-4-v-1600-p-o-z-v-a-n-k-a-na-vyrocni-clenskou-schuzi-svv-cr-ko-jihomoravskeho-kraje/
ATTACH;FMTTYPE=image/jpeg:https://www.svvcr.cz/wp-content/uploads/2025/03/IMG_9075.jpg
END:VEVENT
END:VCALENDAR