BEGIN:VCALENDAR
VERSION:2.0
PRODID:-//Sdružení válečných veteránů ČR - ECPv6.15.20//NONSGML v1.0//EN
CALSCALE:GREGORIAN
METHOD:PUBLISH
X-WR-CALNAME:Sdružení válečných veteránů ČR
X-ORIGINAL-URL:https://www.svvcr.cz
X-WR-CALDESC:Akce na Sdružení válečných veteránů ČR
REFRESH-INTERVAL;VALUE=DURATION:PT1H
X-Robots-Tag:noindex
X-PUBLISHED-TTL:PT1H
BEGIN:VTIMEZONE
TZID:Europe/Prague
BEGIN:DAYLIGHT
TZOFFSETFROM:+0100
TZOFFSETTO:+0200
TZNAME:CEST
DTSTART:20240331T010000
END:DAYLIGHT
BEGIN:STANDARD
TZOFFSETFROM:+0200
TZOFFSETTO:+0100
TZNAME:CET
DTSTART:20241027T010000
END:STANDARD
BEGIN:DAYLIGHT
TZOFFSETFROM:+0100
TZOFFSETTO:+0200
TZNAME:CEST
DTSTART:20250330T010000
END:DAYLIGHT
BEGIN:STANDARD
TZOFFSETFROM:+0200
TZOFFSETTO:+0100
TZNAME:CET
DTSTART:20251026T010000
END:STANDARD
BEGIN:DAYLIGHT
TZOFFSETFROM:+0100
TZOFFSETTO:+0200
TZNAME:CEST
DTSTART:20260329T010000
END:DAYLIGHT
BEGIN:STANDARD
TZOFFSETFROM:+0200
TZOFFSETTO:+0100
TZNAME:CET
DTSTART:20261025T010000
END:STANDARD
END:VTIMEZONE
BEGIN:VEVENT
DTSTART;TZID=Europe/Prague:20250423T140000
DTEND;TZID=Europe/Prague:20250423T150000
DTSTAMP:20260420T044025
CREATED:20250414T092425Z
LAST-MODIFIED:20250414T092709Z
UID:13082-1745416800-1745420400@www.svvcr.cz
SUMMARY:23.4. v 14:15 Poslední rozloučení s pplk. MUDr. Jozefem Michaliskem
DESCRIPTION:Dne 11. dubna 2025 v 19.30 hod podlehl ve svých 76 letech těžké\, nevyléčitelné nemoci pplk. MUDr. Jozef Michalisko. Zemřel ve svém pražském bytě\, oporou mu v posledních chvílích byla manželka a dcera.\nDoktora Michaliska poznaly stovky příslušníků mise UNPROFOR i vojenští pozorovatelé OSN. Byl voják\, válečný veterán\, člen Jihomoravského výboru SVV ČR a hlavně dobrý chlap.\nPoslední rozloučení proběhne v Praze s vojenskou účastí ve středu 23.4. od 14:15 hod v krematoriu Motol. Váleční veteráni\, přátelé a kamarádi jsou k poslednímu rozloučení zváni.\nVzpomeňte na válečného veterána pplk. MUDr. Jozefa Michaliska. \nČest jeho památce.
URL:https://www.svvcr.cz/kalendar/23-4-v-1415-posledni-rozlouceni-s-pplk-mudr-jozefem-michaliskem/
LOCATION:Krematorium Motol Praha 5\, Plzeňská 233\, Praha 5
ATTACH;FMTTYPE=image/png:https://www.svvcr.cz/wp-content/uploads/2025/04/2024_1220_Dr._Michalisko_detail2.png
END:VEVENT
BEGIN:VEVENT
DTSTART;TZID=Europe/Prague:20250423T150000
DTEND;TZID=Europe/Prague:20250423T170000
DTSTAMP:20260420T044025
CREATED:20250406T153427Z
LAST-MODIFIED:20250411T081326Z
UID:13000-1745420400-1745427600@www.svvcr.cz
SUMMARY:Mimořádná členská schůze KO SVV ČR PLZEŃSKÉHO KRAJE - POZVÁNKA
DESCRIPTION:POZVÁNKA PRO ČLENY KO PLZEŇSKÉHO KRAJE \nMimořádná členská schůze se uskuteční dne 23. 4. 2025 v 15:00 hodin v prostorách KVV Plzeň\,  \nMísto konání mimořádné čl. schůze: zasedací místnost KVV Plzeň\, Štefánikovo náměstí č. 1 Plzeň\nDatum konání : 23.4.2025 Čas konání : 15:00 – 16:00 hod\nProgram schůze:\nPrezentace\, Zahájení\nRezignace předsedy KO SVV plzeňského kraje\, Volba předsedy KO SVV plzeňského kraje\nZpráva o svolání mimořádného sněmu SVV ČR na den 17. 5. 2025 v Praze\nVolba delegátů na mimořádný sněm\nDiskuze\, Usnesení a Závěr \npor. v.z. Bc. Kalina Pavel
URL:https://www.svvcr.cz/kalendar/mimoradna-clenska-schuze-ko-svv-cr-plzenskeho-kraje/
LOCATION:Krajské vojenské velitelství Plzeň\, Štefánikovo náměstí 1\, Plzeň\, 30450\, Czech Republic
ATTACH;FMTTYPE=image/jpeg:https://www.svvcr.cz/wp-content/uploads/2022/11/02.jpg
ORGANIZER;CN="Bc. Pavel Kalina":MAILTO:svvcr.plzen@seznam.cz
END:VEVENT
END:VCALENDAR