BEGIN:VCALENDAR
VERSION:2.0
PRODID:-//Sdružení válečných veteránů ČR - ECPv6.15.20//NONSGML v1.0//EN
CALSCALE:GREGORIAN
METHOD:PUBLISH
X-ORIGINAL-URL:https://www.svvcr.cz
X-WR-CALDESC:Akce na Sdružení válečných veteránů ČR
REFRESH-INTERVAL;VALUE=DURATION:PT1H
X-Robots-Tag:noindex
X-PUBLISHED-TTL:PT1H
BEGIN:VTIMEZONE
TZID:Europe/Prague
BEGIN:DAYLIGHT
TZOFFSETFROM:+0100
TZOFFSETTO:+0200
TZNAME:CEST
DTSTART:20240331T010000
END:DAYLIGHT
BEGIN:STANDARD
TZOFFSETFROM:+0200
TZOFFSETTO:+0100
TZNAME:CET
DTSTART:20241027T010000
END:STANDARD
BEGIN:DAYLIGHT
TZOFFSETFROM:+0100
TZOFFSETTO:+0200
TZNAME:CEST
DTSTART:20250330T010000
END:DAYLIGHT
BEGIN:STANDARD
TZOFFSETFROM:+0200
TZOFFSETTO:+0100
TZNAME:CET
DTSTART:20251026T010000
END:STANDARD
BEGIN:DAYLIGHT
TZOFFSETFROM:+0100
TZOFFSETTO:+0200
TZNAME:CEST
DTSTART:20260329T010000
END:DAYLIGHT
BEGIN:STANDARD
TZOFFSETFROM:+0200
TZOFFSETTO:+0100
TZNAME:CET
DTSTART:20261025T010000
END:STANDARD
END:VTIMEZONE
BEGIN:VEVENT
DTSTART;TZID=Europe/Prague:20250410T153000
DTEND;TZID=Europe/Prague:20250410T183000
DTSTAMP:20260423T151248
CREATED:20250402T090739Z
LAST-MODIFIED:20250402T090740Z
UID:12953-1744299000-1744309800@www.svvcr.cz
SUMMARY:Pozvánka na tematický čtvrtek – duben 2025
DESCRIPTION:Vážení váleční veteráni\, \ndne 10. 4. 2025 v 15:30 hod. se v Komunitním centru pro válečné veterány U čtvrté baterie 194\, 162 00 Praha 6 (naproti hlavnímu vchodu do Vojenské nemocnice) uskuteční opět komunitní čtvrtek. Tentokrát bude na programu beseda se  zástupcem Vojenské zdravotní pojišťovny. Tématem bude činnost Vojenské zdravotní pojišťovny ve vztahu k válečným veteránům\, držitelům osvědčení dle zákona č. 170/ 2002 Sb. Pro zajištění dostatečného množství občerstvení prosím svou účast potvrďte nejpozději do 8. 4. 2025 emailem na: Hanousek.Petr@seznam.cz \nVíce informací na https://www.svvcr.cz/pozvanka-na-tematicky-ctvrtek-duben-2025/
URL:https://www.svvcr.cz/kalendar/pozvanka-na-tematicky-ctvrtek-duben-2025/
LOCATION:Komunitní centrum pro válečné veterány Praha\, U čtvrté baterie 194\, Praha 6\, Česká Republika\, 16200
ATTACH;FMTTYPE=image/png:https://www.svvcr.cz/wp-content/uploads/2025/04/Vozp201.png
END:VEVENT
END:VCALENDAR